BEGIN:VCALENDAR
VERSION:2.0
PRODID:-//Unió Sindical Obrera de Catalunya - ECPv6.15.20//NONSGML v1.0//EN
CALSCALE:GREGORIAN
METHOD:PUBLISH
X-WR-CALNAME:Unió Sindical Obrera de Catalunya
X-ORIGINAL-URL:https://usoc.cat
X-WR-CALDESC:Esdeveniments per Unió Sindical Obrera de Catalunya
REFRESH-INTERVAL;VALUE=DURATION:PT1H
X-Robots-Tag:noindex
X-PUBLISHED-TTL:PT1H
BEGIN:VTIMEZONE
TZID:Europe/Madrid
BEGIN:DAYLIGHT
TZOFFSETFROM:+0100
TZOFFSETTO:+0200
TZNAME:CEST
DTSTART:20220327T010000
END:DAYLIGHT
BEGIN:STANDARD
TZOFFSETFROM:+0200
TZOFFSETTO:+0100
TZNAME:CET
DTSTART:20221030T010000
END:STANDARD
BEGIN:DAYLIGHT
TZOFFSETFROM:+0100
TZOFFSETTO:+0200
TZNAME:CEST
DTSTART:20230326T010000
END:DAYLIGHT
BEGIN:STANDARD
TZOFFSETFROM:+0200
TZOFFSETTO:+0100
TZNAME:CET
DTSTART:20231029T010000
END:STANDARD
BEGIN:DAYLIGHT
TZOFFSETFROM:+0100
TZOFFSETTO:+0200
TZNAME:CEST
DTSTART:20240331T010000
END:DAYLIGHT
BEGIN:STANDARD
TZOFFSETFROM:+0200
TZOFFSETTO:+0100
TZNAME:CET
DTSTART:20241027T010000
END:STANDARD
END:VTIMEZONE
BEGIN:VEVENT
DTSTART;TZID=Europe/Madrid:20231123T153000
DTEND;TZID=Europe/Madrid:20231124T153000
DTSTAMP:20260419T141632
CREATED:20231117T090053Z
LAST-MODIFIED:20231117T090053Z
UID:10288-1700753400-1700839800@usoc.cat
SUMMARY:Jornada de Tardor del Consell Català del Moviment Europeu
DESCRIPTION:Lloc: Sant Boi de Llobregat \n  \n\nTweet
URL:https://usoc.cat/esdeveniment/jornada-de-tardor-del-consell-catala-del-moviment-europeu/
CATEGORIES:Assistència
END:VEVENT
END:VCALENDAR