BEGIN:VCALENDAR
VERSION:2.0
PRODID:-//Unió Sindical Obrera de Catalunya - ECPv6.15.20//NONSGML v1.0//EN
CALSCALE:GREGORIAN
METHOD:PUBLISH
X-WR-CALNAME:Unió Sindical Obrera de Catalunya
X-ORIGINAL-URL:https://usoc.cat
X-WR-CALDESC:Esdeveniments per Unió Sindical Obrera de Catalunya
REFRESH-INTERVAL;VALUE=DURATION:PT1H
X-Robots-Tag:noindex
X-PUBLISHED-TTL:PT1H
BEGIN:VTIMEZONE
TZID:Europe/Madrid
BEGIN:DAYLIGHT
TZOFFSETFROM:+0100
TZOFFSETTO:+0200
TZNAME:CEST
DTSTART:20220327T010000
END:DAYLIGHT
BEGIN:STANDARD
TZOFFSETFROM:+0200
TZOFFSETTO:+0100
TZNAME:CET
DTSTART:20221030T010000
END:STANDARD
BEGIN:DAYLIGHT
TZOFFSETFROM:+0100
TZOFFSETTO:+0200
TZNAME:CEST
DTSTART:20230326T010000
END:DAYLIGHT
BEGIN:STANDARD
TZOFFSETFROM:+0200
TZOFFSETTO:+0100
TZNAME:CET
DTSTART:20231029T010000
END:STANDARD
BEGIN:DAYLIGHT
TZOFFSETFROM:+0100
TZOFFSETTO:+0200
TZNAME:CEST
DTSTART:20240331T010000
END:DAYLIGHT
BEGIN:STANDARD
TZOFFSETFROM:+0200
TZOFFSETTO:+0100
TZNAME:CET
DTSTART:20241027T010000
END:STANDARD
END:VTIMEZONE
BEGIN:VEVENT
DTSTART;TZID=Europe/Madrid:20231201T083000
DTEND;TZID=Europe/Madrid:20231201T100000
DTSTAMP:20260421T122122
CREATED:20231115T092229Z
LAST-MODIFIED:20231115T092229Z
UID:10244-1701419400-1701424800@usoc.cat
SUMMARY:Acte institucional de la 36ena edició del Dia Mundial de la Sida
DESCRIPTION:L’acte s’iniciarà amb el desplegament de les seccions del Tapís Memorial de la Sida\, simultàniament a les façanes del Palau de la Generalitat i de l’Ajuntament de Barcelona\, organitzat per Projecte dels Noms\, i continuarà al Palau de la Generalitat amb la participació del Comitè 1r. de desembre. \nPer part de la USOC assistirà Ángel Garrido\, secretari d’acció sindical \n\nTweet
URL:https://usoc.cat/esdeveniment/acte-institucional-de-la-36ena-edicio-del-dia-mundial-de-la-sida/
LOCATION:Palau de la Generalitat
CATEGORIES:Acte Institucional
END:VEVENT
END:VCALENDAR