BEGIN:VCALENDAR
VERSION:2.0
PRODID:-//Unió Sindical Obrera de Catalunya - ECPv6.15.20//NONSGML v1.0//EN
CALSCALE:GREGORIAN
METHOD:PUBLISH
X-ORIGINAL-URL:https://usoc.cat
X-WR-CALDESC:Esdeveniments per Unió Sindical Obrera de Catalunya
REFRESH-INTERVAL;VALUE=DURATION:PT1H
X-Robots-Tag:noindex
X-PUBLISHED-TTL:PT1H
BEGIN:VTIMEZONE
TZID:Europe/Madrid
BEGIN:DAYLIGHT
TZOFFSETFROM:+0100
TZOFFSETTO:+0200
TZNAME:CEST
DTSTART:20240331T010000
END:DAYLIGHT
BEGIN:STANDARD
TZOFFSETFROM:+0200
TZOFFSETTO:+0100
TZNAME:CET
DTSTART:20241027T010000
END:STANDARD
BEGIN:DAYLIGHT
TZOFFSETFROM:+0100
TZOFFSETTO:+0200
TZNAME:CEST
DTSTART:20250330T010000
END:DAYLIGHT
BEGIN:STANDARD
TZOFFSETFROM:+0200
TZOFFSETTO:+0100
TZNAME:CET
DTSTART:20251026T010000
END:STANDARD
BEGIN:DAYLIGHT
TZOFFSETFROM:+0100
TZOFFSETTO:+0200
TZNAME:CEST
DTSTART:20260329T010000
END:DAYLIGHT
BEGIN:STANDARD
TZOFFSETFROM:+0200
TZOFFSETTO:+0100
TZNAME:CET
DTSTART:20261025T010000
END:STANDARD
BEGIN:DAYLIGHT
TZOFFSETFROM:+0100
TZOFFSETTO:+0200
TZNAME:CEST
DTSTART:20270328T010000
END:DAYLIGHT
BEGIN:STANDARD
TZOFFSETFROM:+0200
TZOFFSETTO:+0100
TZNAME:CET
DTSTART:20271031T010000
END:STANDARD
END:VTIMEZONE
BEGIN:VEVENT
DTSTART;TZID=Europe/Madrid:20251209T113000
DTEND;TZID=Europe/Madrid:20251210T120000
DTSTAMP:20260425T170648
CREATED:20260204T150339Z
LAST-MODIFIED:20260204T150339Z
UID:13789-1765279800-1765368000@usoc.cat
SUMMARY:146º Consejo Confederal
DESCRIPTION:Lloc: Madrid \n  \n\nTweet
URL:https://usoc.cat/esdeveniment/146o-consejo-confederal/
LOCATION:Confederació (Madrid)
CATEGORIES:Confederació
END:VEVENT
BEGIN:VEVENT
DTSTART;TZID=Europe/Madrid:20251210T190000
DTEND;TZID=Europe/Madrid:20251210T200000
DTSTAMP:20260425T170648
CREATED:20251201T083948Z
LAST-MODIFIED:20251201T083948Z
UID:13604-1765393200-1765396800@usoc.cat
SUMMARY:Conversa “50 anys de democràcia: de la transició econòmica a la prosperitat compartida"
DESCRIPTION:Conversa entre la consellera d’Economia\, Alícia Romero\, i el president d’Amics del País\, Miquel Roca i Junyent. \nLloc: Auditori del Palau de la Generalitat \n\nTweet
URL:https://usoc.cat/esdeveniment/conversa-50-anys-de-democracia-de-la-transicio-economica-a-la-prosperitat-compartida/
LOCATION:Palau de la Generalitat
CATEGORIES:Acte Institucional
END:VEVENT
BEGIN:VEVENT
DTSTART;TZID=Europe/Madrid:20251211T100000
DTEND;TZID=Europe/Madrid:20251211T110000
DTSTAMP:20260425T170648
CREATED:20251110T082205Z
LAST-MODIFIED:20251110T082205Z
UID:13520-1765447200-1765450800@usoc.cat
SUMMARY:Reunió amb Filo Cañete\, Presidenta delegada de l’Àrea de Serveis Generals i Transició Digital de la Diputació de Barcelona
DESCRIPTION:Representació de la USOC: \nMaria Recuero\, secretària general \n\nTweet
URL:https://usoc.cat/esdeveniment/reunio-amb-filo-canete-presidenta-delegada-de-larea-de-serveis-generals-i-transicio-digital-de-la-diputacio-de-barcelona/
LOCATION:Barcelona
CATEGORIES:Reunió
END:VEVENT
BEGIN:VEVENT
DTSTART;TZID=Europe/Madrid:20251216T160000
DTEND;TZID=Europe/Madrid:20251216T173000
DTSTAMP:20260425T170648
CREATED:20251121T102452Z
LAST-MODIFIED:20251201T144655Z
UID:13589-1765900800-1765906200@usoc.cat
SUMMARY:Visita Delegació de la Federació de Sindicats de Guizhou\, Xina
DESCRIPTION:Lloc: Seu USOC Barcelona \nRepresentació de la USOC: \nDelegació sindical encapçalada per Maria Recuero\, secretària general \n\nTweet
URL:https://usoc.cat/esdeveniment/visita-delegacio-de-la-federacio-de-sindicats-de-guizhou-xina/
LOCATION:USOC –  Travessera de Gràcia
CATEGORIES:Reunió
END:VEVENT
BEGIN:VEVENT
DTSTART;TZID=Europe/Madrid:20251216T180000
DTEND;TZID=Europe/Madrid:20251216T190000
DTSTAMP:20260425T170648
CREATED:20251205T115958Z
LAST-MODIFIED:20251205T115958Z
UID:13629-1765908000-1765911600@usoc.cat
SUMMARY:Acte institucional del Dia Internacional de les Persones Migrades
DESCRIPTION:De Candel a avui\, les migracions enforteixen els barris. \nLloc: Palau de la Generalitat- Auditori \nRepresentació de la USOC: \nNúria Villas\, secretària de formació\, igualtat i dona. \n\nTweet
URL:https://usoc.cat/esdeveniment/acte-institucional-del-dia-internacional-de-les-persones-migrades/
LOCATION:Palau de la Generalitat
CATEGORIES:Acte Institucional
END:VEVENT
BEGIN:VEVENT
DTSTART;TZID=Europe/Madrid:20251218T183000
DTEND;TZID=Europe/Madrid:20251218T200000
DTSTAMP:20260425T170648
CREATED:20251205T120157Z
LAST-MODIFIED:20251205T120157Z
UID:13631-1766082600-1766088000@usoc.cat
SUMMARY:Celebració institucional de Nadal a Tarragona
DESCRIPTION:Representació de la USOC: \nCristina Ferre\, responsable territorial del Camp de Tarragona \n\nTweet
URL:https://usoc.cat/esdeveniment/celebracio-institucional-de-nadal-a-tarragona/
LOCATION:Tarragona – Carrer Ixart 11
CATEGORIES:Acte Institucional
END:VEVENT
BEGIN:VEVENT
DTSTART;TZID=Europe/Madrid:20251222T180000
DTEND;TZID=Europe/Madrid:20251222T190000
DTSTAMP:20260425T170648
CREATED:20251223T084750Z
LAST-MODIFIED:20251223T084750Z
UID:13693-1766426400-1766430000@usoc.cat
SUMMARY:Acte de lliurament de la Medalla d'Or de la Generalitat de Catalunya
DESCRIPTION:Lloc: Palau de la Generalitat de Catalunya \nRepresentació de la USOC: \nÁngel Garrido\, secretari d’accció sindical \n\nTweet
URL:https://usoc.cat/esdeveniment/acte-de-lliurament-de-la-medalla-dor-de-la-generalitat-de-catalunya/
CATEGORIES:Acte Institucional
END:VEVENT
BEGIN:VEVENT
DTSTART;VALUE=DATE:20260114
DTEND;VALUE=DATE:20260117
DTSTAMP:20260425T170648
CREATED:20260113T143512Z
LAST-MODIFIED:20260113T143512Z
UID:13737-1768348800-1768607999@usoc.cat
SUMMARY:Taller presencial al Centro Internacional de Formación de la OIT a Berlin
DESCRIPTION:Representació de la USOC: \nMaria Recuero\, secretària general \n\nTweet
URL:https://usoc.cat/esdeveniment/taller-presencial-al-centro-internacional-de-formacion-de-la-oit-a-berlin/
END:VEVENT
BEGIN:VEVENT
DTSTART;TZID=Europe/Madrid:20260115T180000
DTEND;TZID=Europe/Madrid:20260115T190000
DTSTAMP:20260425T170648
CREATED:20260112T151949Z
LAST-MODIFIED:20260112T151949Z
UID:13718-1768500000-1768503600@usoc.cat
SUMMARY:Acte de lliurament del XXXVII Premi Internacional Catalunya
DESCRIPTION:Invitació del M. Hble. Sr. Salvador Illa i Roca. \nLloc: Palau de la Generalitat \nRepresentació de la USOC: \nNúria Villas\, secretària de formació\, igualtat i dona \n\nTweet
URL:https://usoc.cat/esdeveniment/acte-de-lliurament-del-xxxvii-premi-internacional-catalunya/
LOCATION:Palau de la Generalitat
CATEGORIES:Acte Institucional
END:VEVENT
BEGIN:VEVENT
DTSTART;TZID=Europe/Madrid:20260116T113000
DTEND;TZID=Europe/Madrid:20260116T123000
DTSTAMP:20260425T170648
CREATED:20260113T143311Z
LAST-MODIFIED:20260113T143311Z
UID:13735-1768563000-1768566600@usoc.cat
SUMMARY:Presentació de la línia d’ajuts per a l'organització de cursos gratuïts de català de nivell A1 i A2
DESCRIPTION:Lloc: Sala d’actes de Palau Marc \nRepresentació de la USOC: \nNúria Villas\, secretària de formació\, igualtat i dona \n\nTweet
URL:https://usoc.cat/esdeveniment/presentacio-de-la-linia-dajuts-per-a-lorganitzacio-de-cursos-gratuits-de-catala-de-nivell-a1-i-a2/
LOCATION:Barcelona
CATEGORIES:Acte Institucional
END:VEVENT
BEGIN:VEVENT
DTSTART;TZID=Europe/Madrid:20260120T190000
DTEND;TZID=Europe/Madrid:20260120T200000
DTSTAMP:20260425T170648
CREATED:20251212T115438Z
LAST-MODIFIED:20251212T115451Z
UID:13638-1768935600-1768939200@usoc.cat
SUMMARY:Conferència "Una nova ambició per al Baix Llobregat"
DESCRIPTION:Ponent: Oriol Junqueras\, president d’Esquerra Republicana. \nLloc: Teatre Núria Espert\, Sant Andreu de la Barca \nRepresentació de la USOC: \nCristina Gelabert\, responsable territorial del Baix Llobregat \n\nTweet
URL:https://usoc.cat/esdeveniment/conferencia-una-nova-ambicio-per-al-baix-llobregat/
CATEGORIES:Acte Institucional
END:VEVENT
BEGIN:VEVENT
DTSTART;TZID=Europe/Madrid:20260121T183000
DTEND;TZID=Europe/Madrid:20260121T190000
DTSTAMP:20260425T170648
CREATED:20251223T084138Z
LAST-MODIFIED:20251223T085134Z
UID:13691-1769020200-1769022000@usoc.cat
SUMMARY:Conferència "L’estadística\, pilar de la democràcia"
DESCRIPTION:A càrrec de la consellera d’Economia i Finances \nLloc: Sala Cotxeres del Palau Robert \nRepresentació de la USOC: \nMaria Recuero\, secretària general \n\nTweet
URL:https://usoc.cat/esdeveniment/conferencia-lestadistica-pilar-de-la-democracia/
LOCATION:Barcelona
CATEGORIES:Acte Institucional,Conferència
END:VEVENT
BEGIN:VEVENT
DTSTART;TZID=Europe/Madrid:20260122T100000
DTEND;TZID=Europe/Madrid:20260123T150000
DTSTAMP:20260425T170648
CREATED:20260108T155708Z
LAST-MODIFIED:20260108T155708Z
UID:13703-1769076000-1769180400@usoc.cat
SUMMARY:Assemblea general del CSIR-Pirimed
DESCRIPTION:Lloc: Tolouse \nRepresentació de la USOC: \nMaria Recuero\, secretària general \nWalter Álvarez\, coordinador de les comarques de girona \n\nTweet
URL:https://usoc.cat/esdeveniment/assemblea-general-del-csir-pirimed/
END:VEVENT
BEGIN:VEVENT
DTSTART;TZID=Europe/Madrid:20260128T113000
DTEND;TZID=Europe/Madrid:20260128T130000
DTSTAMP:20260425T170648
CREATED:20251223T085029Z
LAST-MODIFIED:20251223T085029Z
UID:13695-1769599800-1769605200@usoc.cat
SUMMARY:Visita de l'executiva Confederal a Barcelona
DESCRIPTION:Joaquín Pérez da Silva i Sara García de las Heras\, secretari general i secretària d’acció sindical i ocupació de la USO Confederació \nRepresentació de la USOC: \nExecutiva Nacional \nEnrique Gallego\, secretaria general de la FEUSOC \nAntonia Rivero\, secretària general de la Federació d’Indústria de la USOC \n\nTweet
URL:https://usoc.cat/esdeveniment/visita-de-lexecutiva-confederal-a-barcelona/
LOCATION:USOC –  Travessera de Gràcia
CATEGORIES:Reunió
END:VEVENT
BEGIN:VEVENT
DTSTART;TZID=Europe/Madrid:20260129T100000
DTEND;TZID=Europe/Madrid:20260129T150000
DTSTAMP:20260425T170648
CREATED:20260108T155808Z
LAST-MODIFIED:20260108T155808Z
UID:13705-1769680800-1769698800@usoc.cat
SUMMARY:Assemblea territorial a Granollers
DESCRIPTION:Òrgan d’organització interna \n\nTweet
URL:https://usoc.cat/esdeveniment/assemblea-territorial-a-granollers/
LOCATION:Granollers-Miquel Ricomà 63
CATEGORIES:Assemblea
END:VEVENT
BEGIN:VEVENT
DTSTART;TZID=Europe/Madrid:20260204T103000
DTEND;TZID=Europe/Madrid:20260204T113000
DTSTAMP:20260425T170648
CREATED:20260128T082644Z
LAST-MODIFIED:20260128T082644Z
UID:13742-1770201000-1770204600@usoc.cat
SUMMARY:Reunió amb una representació del Grup Parlamentari Socialista
DESCRIPTION:Reunió a la seu del sindicat amb la diputada portaveu del Grup Parlamentari Socialistes i Units per Avançar al Parlament de Catalunya\, I. Sra. Elena Díaz i la diputada I. Sra. Conchi Jiménez \nRepresentació de la USOC: \nExecutiva Nacional \n\nTweet
URL:https://usoc.cat/esdeveniment/reunio-amb-una-representacio-del-grup-parlamentari-socialista/
CATEGORIES:Reunió
END:VEVENT
BEGIN:VEVENT
DTSTART;TZID=Europe/Madrid:20260204T160000
DTEND;TZID=Europe/Madrid:20260204T170000
DTSTAMP:20260425T170648
CREATED:20260203T152358Z
LAST-MODIFIED:20260203T152358Z
UID:13779-1770220800-1770224400@usoc.cat
SUMMARY:Roda de Premsa sobre la vaga d'Ensenyament Públic
DESCRIPTION:Lloc. Seu USOC \n  \n\nTweet
URL:https://usoc.cat/esdeveniment/roda-de-premsa-sobre-la-vaga-densenyament-public/
LOCATION:USOC –  Travessera de Gràcia
END:VEVENT
BEGIN:VEVENT
DTSTART;TZID=Europe/Madrid:20260206T090000
DTEND;TZID=Europe/Madrid:20260206T100000
DTSTAMP:20260425T170648
CREATED:20260130T085416Z
LAST-MODIFIED:20260130T085416Z
UID:13753-1770368400-1770372000@usoc.cat
SUMMARY:Fórum Europa Tribuna Catalunya amb la Hble. Sra. Sílvia Paneque i Sureda
DESCRIPTION:Consellera de Territori\, Habitatge i Transició Ecológica de la Generalitat de Catalunya i Portaveu del Govern \nLloc: Hotel Palace de Barcelona \nRepresentació de la USOC: \nMaria Recuero\, secretària general \n\nTweet
URL:https://usoc.cat/esdeveniment/forum-europa-tribuna-catalunya-amb-la-hble-sra-silvia-paneque-i-sureda/
CATEGORIES:Acte Institucional
END:VEVENT
BEGIN:VEVENT
DTSTART;TZID=Europe/Madrid:20260206T090000
DTEND;TZID=Europe/Madrid:20260206T100000
DTSTAMP:20260425T170648
CREATED:20260226T155853Z
LAST-MODIFIED:20260226T155853Z
UID:13920-1770368400-1770372000@usoc.cat
SUMMARY:Invitació desplegament pancarta 8M. Dia Internacional de les Dones
DESCRIPTION:Lloc: Saló Carles III de l’Ajuntament de Barcelona \nRepresentació de la USOC: \nNúria Villas\, secretària de formació\, igualtat i dona \n  \n\nTweet
URL:https://usoc.cat/esdeveniment/invitacio-desplegament-pancarta-8m-dia-internacional-de-les-dones/
LOCATION:Ajuntament de Barcelona
CATEGORIES:Acte Institucional
END:VEVENT
BEGIN:VEVENT
DTSTART;TZID=Europe/Madrid:20260213T120000
DTEND;TZID=Europe/Madrid:20260213T130000
DTSTAMP:20260425T170648
CREATED:20260128T083110Z
LAST-MODIFIED:20260128T083110Z
UID:13747-1770984000-1770987600@usoc.cat
SUMMARY:Acte d’investidura doctor honoris causa del Dr. Carlos Martínez Saw
DESCRIPTION:Lloc: Paranimf del Rectorat\, Tarragona \nRepresentació de la USOC: \nCristina Ferre\, responsable territorial del Camp de Tarragona \n\nTweet
URL:https://usoc.cat/esdeveniment/acte-dinvestidura-doctor-honoris-causa-del-dr-carlos-martinez-saw/
LOCATION:Tarragona – Carrer Ixart 11
CATEGORIES:Acte Institucional
END:VEVENT
BEGIN:VEVENT
DTSTART;TZID=Europe/Madrid:20260217T090000
DTEND;TZID=Europe/Madrid:20260217T100000
DTSTAMP:20260425T170648
CREATED:20260202T161419Z
LAST-MODIFIED:20260202T161419Z
UID:13766-1771318800-1771322400@usoc.cat
SUMMARY:Fòrum Europa Tribuna Catalunya amb la Sra. Sílvia Orriols\, Presidenta d’Aliança Catalana
DESCRIPTION:Lloc: Hotel Palace de Barcelona \nRepresentació de la USOC: \nMaria Recuero\, secretària general \n\nTweet
URL:https://usoc.cat/esdeveniment/forum-europa-tribuna-catalunya-amb-la-sra-silvia-orriols-presidenta-dalianca-catalana/
LOCATION:Barcelona
CATEGORIES:Acte Institucional
END:VEVENT
BEGIN:VEVENT
DTSTART;TZID=Europe/Madrid:20260217T183000
DTEND;TZID=Europe/Madrid:20260217T193000
DTSTAMP:20260425T170648
CREATED:20260210T145350Z
LAST-MODIFIED:20260210T145350Z
UID:13812-1771353000-1771356600@usoc.cat
SUMMARY:Acte de commemoració del 50è aniversari de La Bressola
DESCRIPTION:Invitació del conseller de Política Lingüística de la Generalitat de Catalunya \nLloc: Sala cotxeres de Palau Robert\, Barcelona. \nRepresentació de la USOC: \nNúria Villas\, secretària de formació\, igualtat i dona. \n\nTweet
URL:https://usoc.cat/esdeveniment/acte-de-commemoracio-del-50e-aniversari-de-la-bressola/
LOCATION:Barcelona
CATEGORIES:Acte Institucional
END:VEVENT
BEGIN:VEVENT
DTSTART;TZID=Europe/Madrid:20260218T120000
DTEND;TZID=Europe/Madrid:20260218T123000
DTSTAMP:20260425T170648
CREATED:20260108T160140Z
LAST-MODIFIED:20260108T160140Z
UID:13707-1771416000-1771417800@usoc.cat
SUMMARY:Inauguració Seminari EZA a Barcelona
DESCRIPTION:Seminari: Safeguards for mobile workers – Rights and forms of representation \nRepresentació de la USOC: \nMaria Recuero\, secretària genereal \n\nTweet
URL:https://usoc.cat/esdeveniment/inauguracio-seminari-eza-a-barcelona/
LOCATION:Barcelona
END:VEVENT
BEGIN:VEVENT
DTSTART;TZID=Europe/Madrid:20260218T180000
DTEND;TZID=Europe/Madrid:20260218T190000
DTSTAMP:20260425T170648
CREATED:20260209T154205Z
LAST-MODIFIED:20260209T154205Z
UID:13801-1771437600-1771441200@usoc.cat
SUMMARY:Reunió de seguiment del Pacte Nacional per la Llengua
DESCRIPTION:Lloc: Sala d’actes de Palau Marc\, Barcelona \nRepresentació de la USOC: \nNúria Villas\, sceretària de formació\, igualtat i dona. \n\nTweet
URL:https://usoc.cat/esdeveniment/reunio-de-seguiment-del-pacte-nacional-per-la-llengua/
LOCATION:Barcelona
CATEGORIES:Acte Institucional
END:VEVENT
BEGIN:VEVENT
DTSTART;TZID=Europe/Madrid:20260220T110000
DTEND;TZID=Europe/Madrid:20260220T120000
DTSTAMP:20260425T170648
CREATED:20260216T081616Z
LAST-MODIFIED:20260216T081616Z
UID:13841-1771585200-1771588800@usoc.cat
SUMMARY:Acte de presentació del nou sistema de finançament
DESCRIPTION:A càrrec de la Hble. Sra. Alícia Romero Llano\, consellera d’Economia i Finances de la Generalitat de Catalunya. \nLloc: Ajuntament de la Pobla de Mafumet \nRepresentació de la USOC: \nMaria Recuero\, secretària general \nCristina Ferré\, responsable territorial del camp de tarragona \n\nTweet
URL:https://usoc.cat/esdeveniment/acte-de-presentacio-del-nou-sistema-de-financament/
LOCATION:Tarragona – Carrer Ixart 11
CATEGORIES:Acte Institucional
END:VEVENT
BEGIN:VEVENT
DTSTART;TZID=Europe/Madrid:20260220T120000
DTEND;TZID=Europe/Madrid:20260220T130000
DTSTAMP:20260425T170648
CREATED:20260209T154031Z
LAST-MODIFIED:20260209T154031Z
UID:13799-1771588800-1771592400@usoc.cat
SUMMARY:Ponència "Europa\, hacia su soberanía e independencia"
DESCRIPTION:Cicle “Europa: ara què?” | Barcelona Tribuna \nLloc: Palau Macaya \nPonent: José Manuel Albares\, Ministre d’Afers Exteriors\, Unió Europea i Cooperació. \nRepresentació de la USOC: \nMaria Recuero\, secretària general \n\nTweet
URL:https://usoc.cat/esdeveniment/ponencia-europa-hacia-su-soberania-e-independencia/
LOCATION:Barcelona
CATEGORIES:Acte Institucional
END:VEVENT
BEGIN:VEVENT
DTSTART;TZID=Europe/Madrid:20260223T183000
DTEND;TZID=Europe/Madrid:20260223T190000
DTSTAMP:20260425T170648
CREATED:20260212T121859Z
LAST-MODIFIED:20260219T100923Z
UID:13831-1771871400-1771873200@usoc.cat
SUMMARY:Acte de presentació de la Nota d'Economia 109: prosperitat compartida
DESCRIPTION:Invitació de l’Hble. Sra. Alícia Romero Llano\, consellera d’Economia i Finances de la Generalitat de Catalunya. \nLloc: Sala Pau Gil del Recinte Modernista de Sant Pau\, Barcelona \nRepresentació de la USOC: \nÁngel Garrido\, secretari d’acció sindical \n\nTweet
URL:https://usoc.cat/esdeveniment/acte-de-presentacio-de-la-nota-deconomia-109-prosperitat-compartida/
CATEGORIES:Acte Institucional
END:VEVENT
BEGIN:VEVENT
DTSTART;TZID=Europe/Madrid:20260226T110000
DTEND;TZID=Europe/Madrid:20260226T113000
DTSTAMP:20260425T170648
CREATED:20260220T084151Z
LAST-MODIFIED:20260220T084151Z
UID:13878-1772103600-1772105400@usoc.cat
SUMMARY:Concentració MERP
DESCRIPTION:Mesa Estatal por el Blindaje de la Pensiones \nLloc: Arc de Triomf\, Barcelona \nRepresentació de la USOC: \nÁngel Garrido\, secretari d’acció sindical \n  \n\nTweet
URL:https://usoc.cat/esdeveniment/concentracio-merp/
LOCATION:Barcelona
CATEGORIES:Concentració
END:VEVENT
BEGIN:VEVENT
DTSTART;TZID=Europe/Madrid:20260226T120000
DTEND;TZID=Europe/Madrid:20260226T133000
DTSTAMP:20260425T170648
CREATED:20260212T124502Z
LAST-MODIFIED:20260212T124502Z
UID:13833-1772107200-1772112600@usoc.cat
SUMMARY:Lliurament dels 37ns Premis CAC a la investigació sobre comunicació audiovisual
DESCRIPTION:Lloc: Sala d’actes del Col·legi de Periodistes de Catalunya\, Barcelona \nRepresentació de la USOC: \nAdrià Peiró\, responsable de comunicació \n\nTweet
URL:https://usoc.cat/esdeveniment/lliurament-dels-37ns-premis-cac-a-la-investigacio-sobre-comunicacio-audiovisual/
CATEGORIES:Acte Institucional
END:VEVENT
BEGIN:VEVENT
DTSTART;TZID=Europe/Madrid:20260227T093000
DTEND;TZID=Europe/Madrid:20260227T123000
DTSTAMP:20260425T170648
CREATED:20260216T163914Z
LAST-MODIFIED:20260216T163914Z
UID:13852-1772184600-1772195400@usoc.cat
SUMMARY:Jornades sobre l'impacte de la IA i la gestió algorítmica en les relacions de treball
DESCRIPTION:Lloc: Esade Barcelona \nRepresentació de la USOC: \nMaria Recuero\, secretària general \n  \n\nTweet
URL:https://usoc.cat/esdeveniment/jornades-sobre-limpacte-de-la-ia-i-la-gestio-algoritmica-en-les-relacions-de-treball/
LOCATION:Barcelona
CATEGORIES:Jornada
END:VEVENT
END:VCALENDAR