BEGIN:VCALENDAR
VERSION:2.0
PRODID:-//Unió Sindical Obrera de Catalunya - ECPv6.15.20//NONSGML v1.0//EN
CALSCALE:GREGORIAN
METHOD:PUBLISH
X-ORIGINAL-URL:https://usoc.cat
X-WR-CALDESC:Esdeveniments per Unió Sindical Obrera de Catalunya
REFRESH-INTERVAL;VALUE=DURATION:PT1H
X-Robots-Tag:noindex
X-PUBLISHED-TTL:PT1H
BEGIN:VTIMEZONE
TZID:Europe/Madrid
BEGIN:DAYLIGHT
TZOFFSETFROM:+0100
TZOFFSETTO:+0200
TZNAME:CEST
DTSTART:20250330T010000
END:DAYLIGHT
BEGIN:STANDARD
TZOFFSETFROM:+0200
TZOFFSETTO:+0100
TZNAME:CET
DTSTART:20251026T010000
END:STANDARD
BEGIN:DAYLIGHT
TZOFFSETFROM:+0100
TZOFFSETTO:+0200
TZNAME:CEST
DTSTART:20260329T010000
END:DAYLIGHT
BEGIN:STANDARD
TZOFFSETFROM:+0200
TZOFFSETTO:+0100
TZNAME:CET
DTSTART:20261025T010000
END:STANDARD
BEGIN:DAYLIGHT
TZOFFSETFROM:+0100
TZOFFSETTO:+0200
TZNAME:CEST
DTSTART:20270328T010000
END:DAYLIGHT
BEGIN:STANDARD
TZOFFSETFROM:+0200
TZOFFSETTO:+0100
TZNAME:CET
DTSTART:20271031T010000
END:STANDARD
END:VTIMEZONE
BEGIN:VEVENT
DTSTART;TZID=Europe/Madrid:20260421T190000
DTEND;TZID=Europe/Madrid:20260421T203000
DTSTAMP:20260423T135356
CREATED:20260410T083654Z
LAST-MODIFIED:20260410T083654Z
UID:14045-1776798000-1776803400@usoc.cat
SUMMARY:Acte del lliurament de les Creus de Sant Jordi 2026
DESCRIPTION:Lloc: Museu Nacional d’Art de Catalunya \nRepresentació de la USOC: \nMaria recuero\, secretària general \n\nTweet
URL:https://usoc.cat/esdeveniment/acte-del-lliurament-de-les-creus-de-sant-jordi-2026/
LOCATION:Barcelona
CATEGORIES:Acte Institucional
END:VEVENT
BEGIN:VEVENT
DTSTART;TZID=Europe/Madrid:20260421T193000
DTEND;TZID=Europe/Madrid:20260421T203000
DTSTAMP:20260423T135356
CREATED:20260420T083159Z
LAST-MODIFIED:20260420T083159Z
UID:14063-1776799800-1776803400@usoc.cat
SUMMARY:Rebuda de la flama del Correllengua Agermanat a Barcelona
DESCRIPTION:Lloc: Entorn del passeig del Born \nRepresentació de la USOC: \nNúria Villas\, secretària de formació\, igualtat i dona \n\nTweet
URL:https://usoc.cat/esdeveniment/rebuda-de-la-flama-del-correllengua-agermanat-a-barcelona/
LOCATION:Barcelona
CATEGORIES:Acte Institucional
END:VEVENT
BEGIN:VEVENT
DTSTART;TZID=Europe/Madrid:20260422T090000
DTEND;TZID=Europe/Madrid:20260422T103000
DTSTAMP:20260423T135356
CREATED:20260421T112406Z
LAST-MODIFIED:20260421T112406Z
UID:14083-1776848400-1776853800@usoc.cat
SUMMARY:Fòrum Europa Tribuna Catalunya amb el Sr. Camil Ros
DESCRIPTION:Lloc: Hotel Palace\, Barcelona \nRepresentació de la USOC: \nMaria Recuero\, secretària general \n\nTweet
URL:https://usoc.cat/esdeveniment/forum-europa-tribuna-catalunya-amb-el-sr-camil-ros/
LOCATION:Barcelona
END:VEVENT
BEGIN:VEVENT
DTSTART;TZID=Europe/Madrid:20260422T090000
DTEND;TZID=Europe/Madrid:20260422T130000
DTSTAMP:20260423T135356
CREATED:20260420T084226Z
LAST-MODIFIED:20260420T084226Z
UID:14069-1776848400-1776862800@usoc.cat
SUMMARY:Jornada "Un nou marc per a la mobilitat sostenible"
DESCRIPTION:Lloc: Palau Macaya \nRepresentació de la USOC: \nÁngel Garrido\, secretari d’acció sindical \n\nTweet
URL:https://usoc.cat/esdeveniment/jornada-un-nou-marc-per-a-la-mobilitat-sostenible/
LOCATION:Barcelona
CATEGORIES:Acte Institucional
END:VEVENT
BEGIN:VEVENT
DTSTART;TZID=Europe/Madrid:20260422T113000
DTEND;TZID=Europe/Madrid:20260422T123000
DTSTAMP:20260423T135356
CREATED:20260407T075012Z
LAST-MODIFIED:20260420T084322Z
UID:14022-1776857400-1776861000@usoc.cat
SUMMARY:Acte nacional del Dia de les Esquadres 2026
DESCRIPTION:Lloc: Auditori Fòrum del Centre de Convencions Internacional de Barcelona \nRepresentació de la USOC: \nMaria Recuero\, secretària general \nSara Montalbán\, coordinadora FTSP \n\nTweet
URL:https://usoc.cat/esdeveniment/acte-nacional-del-dia-de-les-esquadres-2026/
LOCATION:Barcelona
CATEGORIES:Acte Institucional
END:VEVENT
BEGIN:VEVENT
DTSTART;TZID=Europe/Madrid:20260422T170000
DTEND;TZID=Europe/Madrid:20260422T180000
DTSTAMP:20260423T135356
CREATED:20260420T083545Z
LAST-MODIFIED:20260420T083545Z
UID:14065-1776877200-1776880800@usoc.cat
SUMMARY:Jornada: Desafiaments de les lesbianes a l'entorn internacional
DESCRIPTION:Dia de la Visibilitat Lèsbica \nRepresentació de la USOC: \nNúria Villas\, secretària de formació\, igualtat i dona \n\nTweet
URL:https://usoc.cat/esdeveniment/jornada-desafiaments-de-les-lesbianes-a-lentorn-internacional/
LOCATION:Barcelona
CATEGORIES:Acte Institucional
END:VEVENT
BEGIN:VEVENT
DTSTART;TZID=Europe/Madrid:20260423T093000
DTEND;TZID=Europe/Madrid:20260423T103000
DTSTAMP:20260423T135356
CREATED:20260414T135655Z
LAST-MODIFIED:20260423T082706Z
UID:14055-1776936600-1776940200@usoc.cat
SUMMARY:Recepció amb motiu de la diada de Sant Jordi
DESCRIPTION:Lloc: Palau de la Generalitat \nRepresentació de la USOC: \nÁngel garrido\, secretari d’acció sindical \n\nTweet
URL:https://usoc.cat/esdeveniment/recepcio-amb-motiu-de-la-diada-de-sant-jordi/
LOCATION:Palau de la Generalitat
CATEGORIES:Acte Institucional
END:VEVENT
BEGIN:VEVENT
DTSTART;TZID=Europe/Madrid:20260424T090000
DTEND;TZID=Europe/Madrid:20260424T120000
DTSTAMP:20260423T135356
CREATED:20260420T083805Z
LAST-MODIFIED:20260420T083805Z
UID:14067-1777021200-1777032000@usoc.cat
SUMMARY:“Converses del degà”\, amb la participació del ministre d'Indústria i Turisme\, Jordi Hereu
DESCRIPTION:Lloc: seu del Col·legi d’Economistes \nRepresentació de la USOC: \nMaria Recuero\, secretària general \n\nTweet
URL:https://usoc.cat/esdeveniment/converses-del-dega-amb-la-participacio-del-ministre-dindustria-i-turisme-jordi-hereu/
LOCATION:Barcelona
CATEGORIES:Acte Institucional
END:VEVENT
BEGIN:VEVENT
DTSTART;TZID=Europe/Madrid:20260429T103000
DTEND;TZID=Europe/Madrid:20260429T113000
DTSTAMP:20260423T135356
CREATED:20260407T094131Z
LAST-MODIFIED:20260407T094131Z
UID:14033-1777458600-1777462200@usoc.cat
SUMMARY:Reunió amb Elisabet Romero\, subdelegada del govern de l'Estat a Tarragona
DESCRIPTION:Lloc: Tarragona \nRepresentació de la USOC: Maria Recuero\, secretària general \nCristina Ferre\, responsable territorial del Camp de Tarragona \n\nTweet
URL:https://usoc.cat/esdeveniment/reunio-amb-elisabet-romero-subdelegada-del-govern-de-lestat-a-tarragona/
LOCATION:Tarragona – Carrer Ixart 11
CATEGORIES:Reunió
END:VEVENT
BEGIN:VEVENT
DTSTART;TZID=Europe/Madrid:20260430T100000
DTEND;TZID=Europe/Madrid:20260430T120000
DTSTAMP:20260423T135356
CREATED:20260409T081224Z
LAST-MODIFIED:20260409T081224Z
UID:14039-1777543200-1777550400@usoc.cat
SUMMARY:Presentació de l'estudi sobre l'R+D en el teixit industrial català
DESCRIPTION:Lloc: Espai Endesa\, Barcelona \nRepresentació de la USOC: \nMaria Recuero\, secretària general \n\nTweet
URL:https://usoc.cat/esdeveniment/presentacio-de-lestudi-sobre-lrd-en-el-teixit-industrial-catala/
LOCATION:Barcelona
CATEGORIES:Acte Institucional
END:VEVENT
BEGIN:VEVENT
DTSTART;VALUE=DATE:20260501
DTEND;VALUE=DATE:20260502
DTSTAMP:20260423T135356
CREATED:20260407T094249Z
LAST-MODIFIED:20260407T094249Z
UID:14035-1777593600-1777679999@usoc.cat
SUMMARY:1r de Maig
DESCRIPTION:LLOC: Plaça de Mossèn Jacint Verdaguer (Passeig de Sant Joan – Diagonal)\, Barcelona. \nALTRES ACTES: Terres de l’Ebre (Tortosa). \n\nTweet
URL:https://usoc.cat/esdeveniment/1r-de-maig/
LOCATION:Barcelona
CATEGORIES:Manifestació
END:VEVENT
BEGIN:VEVENT
DTSTART;TZID=Europe/Madrid:20260520T100000
DTEND;TZID=Europe/Madrid:20260522T150000
DTSTAMP:20260423T135356
CREATED:20241125T163548Z
LAST-MODIFIED:20241125T163548Z
UID:12229-1779271200-1779462000@usoc.cat
SUMMARY:Congrés Confederal USO
DESCRIPTION:Lloc: Badajoz \n\nTweet
URL:https://usoc.cat/esdeveniment/congres-confederal-uso/
CATEGORIES:Confederació,Congrés
END:VEVENT
BEGIN:VEVENT
DTSTART;TZID=Europe/Madrid:20260704T160000
DTEND;TZID=Europe/Madrid:20260704T170000
DTSTAMP:20260423T135356
CREATED:20260219T100838Z
LAST-MODIFIED:20260219T100838Z
UID:13871-1783180800-1783184400@usoc.cat
SUMMARY:Cerimònia inauguració Tour de França a Barcelona
DESCRIPTION:Lloc: Barcelona \nRepresentació de la USOC. \nMaria Recuero\, secretària general \n\nTweet
URL:https://usoc.cat/esdeveniment/cerimonia-inauguracio-tour-de-franca-a-barcelona/
LOCATION:Barcelona
CATEGORIES:Acte Institucional
END:VEVENT
BEGIN:VEVENT
DTSTART;TZID=Europe/Madrid:20260930T183000
DTEND;TZID=Europe/Madrid:20260930T200000
DTSTAMP:20260423T135356
CREATED:20260414T140206Z
LAST-MODIFIED:20260414T140206Z
UID:14060-1790793000-1790798400@usoc.cat
SUMMARY:Premis PIMEC 2026
DESCRIPTION:Lloc: Palau Sant Jordi \nRepresentació de la USOC: \nMaria Recuero\, secretària general \n\nTweet
URL:https://usoc.cat/esdeveniment/premis-pimec-2026/
LOCATION:Barcelona
CATEGORIES:Acte Institucional
END:VEVENT
END:VCALENDAR